BEGIN:VCALENDAR
VERSION:2.0
PRODID:-//KBPR - ECPv6.15.20//NONSGML v1.0//EN
CALSCALE:GREGORIAN
METHOD:PUBLISH
X-ORIGINAL-URL:https://kbpr.agency
X-WR-CALDESC:Events for KBPR
REFRESH-INTERVAL;VALUE=DURATION:PT1H
X-Robots-Tag:noindex
X-PUBLISHED-TTL:PT1H
BEGIN:VTIMEZONE
TZID:UTC
BEGIN:STANDARD
TZOFFSETFROM:+0000
TZOFFSETTO:+0000
TZNAME:UTC
DTSTART:20250101T000000
END:STANDARD
END:VTIMEZONE
BEGIN:VEVENT
DTSTART;VALUE=DATE:20260326
DTEND;VALUE=DATE:20260327
DTSTAMP:20260422T071913
CREATED:20251229T143302Z
LAST-MODIFIED:20251229T143302Z
UID:5933-1774483200-1774569599@kbpr.agency
SUMMARY:PMI - Defined Benefit Pensions Conference 2026
DESCRIPTION:This popular PMI event is focused on navigating the complexities and challenges within defined benefit schemes. Set against the backdrop of an ever-evolving financial landscape\, the conference will provide a comprehensive exploration of critical topics shaping the pensions industry.\n\nIndustry experts and thought leaders will meet to discuss strategies for managing risks\, optimising investment portfolios\, and ensuring the sustainability of defined benefit pension schemes. Attendees can expect insightful sessions on regulatory updates\, technological advancements and innovative solutions that impact pension fund management.\n\nThis conference is the ideal place to network and collaborate with peers to share best practices. With a keen emphasis on practical insights\, the event also offers the opportunity for pension scheme trustees\, investment managers\, and advisers to stay abreast of the latest trends\, exchange ideas\, and gain a deeper understanding of the challenges and opportunities associated with defined benefit schemes.\n\nWhy attend?\n\nIndustry Insights: gain valuable knowledge about industry trends\, regulatory updates\, and emerging challenges in the DB pension space.\nNetworking: connect with pension professionals\, fund managers\, regulators and legal experts to share best practices and build professional relationships.\nExpert speakers: learn from leading industry experts\, thought leaders and policymakers who provide deep dives into relevant topics.\nRisk Management: understand evolving strategies to manage funding deficits\, longevity risk and investment volatility in defined benefit plans.\nProfessional Development: enhance your knowledge and skills\, staying ahead in a rapidly evolving regulatory and financial landscape. Plus you can claim up to 7 CPD points.\n\n\n\n\n\n– Details taken from official event website –
URL:https://kbpr.agency/event/pmi-defined-benefit-pensions-conference-2026/
LOCATION:Schroders Solution\, London
ATTACH;FMTTYPE=image/webp:/wp-content/uploads/2025/06/400_filter_nobg_668564fe6bb72.webp
END:VEVENT
END:VCALENDAR