BEGIN:VCALENDAR
VERSION:2.0
PRODID:-//KBPR - ECPv6.15.20//NONSGML v1.0//EN
CALSCALE:GREGORIAN
METHOD:PUBLISH
X-WR-CALNAME:KBPR
X-ORIGINAL-URL:https://kbpr.agency
X-WR-CALDESC:Events for KBPR
REFRESH-INTERVAL;VALUE=DURATION:PT1H
X-Robots-Tag:noindex
X-PUBLISHED-TTL:PT1H
BEGIN:VTIMEZONE
TZID:UTC
BEGIN:STANDARD
TZOFFSETFROM:+0000
TZOFFSETTO:+0000
TZNAME:UTC
DTSTART:20210101T000000
END:STANDARD
END:VTIMEZONE
BEGIN:VEVENT
DTSTART;TZID=UTC:20220308T090000
DTEND;TZID=UTC:20220308T130000
DTSTAMP:20260425T032938
CREATED:20211216T114017Z
LAST-MODIFIED:20220302T122953Z
UID:3177-1646730000-1646744400@kbpr.agency
SUMMARY:Admin and Data Forum 2022
DESCRIPTION:It is critical that administration of pension schemes is carried out in an efficient way with good quality data being the key to realising efficiencies through automation\, reporting and member communications. \nProfessional Pensions’ Admin & Data Forum shines a light on the challenges that trustees and scheme managers are currently facing\, as they evolve their administrative and data functions to meet regulatory duties\, capture efficiencies and provide best outcomes for members.
URL:https://kbpr.agency/event/admin-and-data-forum-2022/
LOCATION:Butchers Hall London
ATTACH;FMTTYPE=image/png:/wp-content/uploads/2021/12/da1234e7-node_PPADF20-WM580x120-RGB_Large.png
END:VEVENT
BEGIN:VEVENT
DTSTART;VALUE=DATE:20220309
DTEND;VALUE=DATE:20220310
DTSTAMP:20260425T032938
CREATED:20211022T114643Z
LAST-MODIFIED:20211022T114643Z
UID:2939-1646784000-1646870399@kbpr.agency
SUMMARY:Women\, Influence & Power in Law UK Awards 2022
DESCRIPTION:The Women\, Influence & Power in Law UK Awards will once again be honouring top female lawyers who have made a remarkable difference in the legal profession this past year – whether in shaping the law\, achieving outstanding results for their clients\, being an outstanding jurist or assisting those in need of legal services. \nThey have 8 diverse categories\, open to both law firms and in-house legal departments\, and thrilled to hear about all the incredible initiatives you have been working on!
URL:https://kbpr.agency/event/women-influence-power-in-law-uk-awards-2022/
ATTACH;FMTTYPE=image/png:/wp-content/uploads/2021/10/731916-5f9ae2a9aa93c.png
END:VEVENT
BEGIN:VEVENT
DTSTART;TZID=UTC:20220309T080000
DTEND;TZID=UTC:20220310T170000
DTSTAMP:20260425T032938
CREATED:20211025T153313Z
LAST-MODIFIED:20211025T153313Z
UID:2980-1646812800-1646931600@kbpr.agency
SUMMARY:PLSA ESG Conference
DESCRIPTION:The PLSA ESG Conference brings together the whole of the UK pensions investment chain on the issues that matter most. The programme covers every angle of ESG. Dedicated exclusively to the pensions sector. \nThe PLSA’s ESG Conference 2022 will be a digital event. The digital platform provides AI-powered matchmaking and multiple ways to connect with your peers\, share insight and access thought leadership from across the industry.
URL:https://kbpr.agency/event/plsa-esg-conference/
LOCATION:Online
END:VEVENT
BEGIN:VEVENT
DTSTART;TZID=UTC:20220316T083000
DTEND;TZID=UTC:20220316T163000
DTSTAMP:20260425T032938
CREATED:20211214T121204Z
LAST-MODIFIED:20211214T121204Z
UID:3131-1647419400-1647448200@kbpr.agency
SUMMARY:SPS Local Authority Pension Fund Investment & Stewardship
DESCRIPTION:This conference seeks to explore a variety of investment strategies/solutions\, both public and private\,\ndesigned to help local authority pension funds to meet their specific investment requirements and\nstewardship responsibilities\, such as: delivering growth\, providing income\, managing cashflows\, improving\nreturns and managing risk as well as reviewing climate change implications and other responsible investment issues. We will examine the opportunities and challenges associated with each given current\nmacroeconomic trends and policy and the consequences of the pandemic.
URL:https://kbpr.agency/event/sps-local-authority-pension-fund-investment-stewardship/
LOCATION:The Dilly\, London
END:VEVENT
BEGIN:VEVENT
DTSTART;TZID=UTC:20220324T083000
DTEND;TZID=UTC:20220324T170000
DTSTAMP:20260425T032938
CREATED:20211216T164656Z
LAST-MODIFIED:20211216T164656Z
UID:3185-1648110600-1648141200@kbpr.agency
SUMMARY:Sustainable Investment Summit
DESCRIPTION:The Sustainable Investment Summit offers pension funds\, insurance companies\, charities and corporates the opportunity to both learn and network alongside their peers at such a key time for the sustainable investment industry.
URL:https://kbpr.agency/event/sustainable-investment-summit/
LOCATION:The Waldorf Hilton\, Aldwych\, London\, WC2B 4DD
END:VEVENT
BEGIN:VEVENT
DTSTART;TZID=UTC:20220329T100000
DTEND;TZID=UTC:20220329T160000
DTSTAMP:20260425T032938
CREATED:20220117T102013Z
LAST-MODIFIED:20220117T102013Z
UID:3214-1648548000-1648569600@kbpr.agency
SUMMARY:PLSA Trustee Training Programme – Part 2: the practice
DESCRIPTION:With support and guidance from independent experts\, trustees with some experience will take part in boardroom simulations to learn how to approach the issues you will face in your role. \nThis course is aimed at those familiar with the basic principles of trusteeship. We recommend you take the part 1 course first. \nYou’ll practice\n\nThe protocol and mechanics of decision making\, including exercising discretions\nDecisions about investments\nManaging delegates and advisers\nTrustee communications\nGetting it wrong\, IDRP and the Pensions Ombudsman\nConflicts of interest\nMaintaining a good relationship with the employer\nGovernance\n\nFees\nMembers: £520 + VAT\nNon-members: £925 + VAT
URL:https://kbpr.agency/event/plsa-trustee-training-programme-part-2-the-practice/
END:VEVENT
END:VCALENDAR