BEGIN:VCALENDAR
VERSION:2.0
PRODID:-//KBPR - ECPv6.15.20//NONSGML v1.0//EN
CALSCALE:GREGORIAN
METHOD:PUBLISH
X-WR-CALNAME:KBPR
X-ORIGINAL-URL:https://kbpr.agency
X-WR-CALDESC:Events for KBPR
REFRESH-INTERVAL;VALUE=DURATION:PT1H
X-Robots-Tag:noindex
X-PUBLISHED-TTL:PT1H
BEGIN:VTIMEZONE
TZID:UTC
BEGIN:STANDARD
TZOFFSETFROM:+0000
TZOFFSETTO:+0000
TZNAME:UTC
DTSTART:20210101T000000
END:STANDARD
END:VTIMEZONE
BEGIN:VEVENT
DTSTART;TZID=UTC:20220407T083000
DTEND;TZID=UTC:20220407T170000
DTSTAMP:20260425T014515
CREATED:20211214T121341Z
LAST-MODIFIED:20211214T121341Z
UID:3133-1649320200-1649350800@kbpr.agency
SUMMARY:SPS Secure Income & Infrastructure Investment for Pension Funds
DESCRIPTION:This conference will examine a range of investment strategies designed to help pension funds achieve\ntargeted income and stable returns\, whether from equities\, bonds\, property\, infrastructure or other real\nassets. We will consider factors such as governance\, liquidity\, fees\, transparency\, ways to reduce volatility\nand how to balance risks with expected returns to achieve differing scheme objectives. We will also aim to consider how such strategies performed and targets fared during the extreme conditions of the pandemic.
URL:https://kbpr.agency/event/sps-secure-income-infrastructure-investment-for-pension-funds/
LOCATION:The Dilly\, London
END:VEVENT
BEGIN:VEVENT
DTSTART;TZID=UTC:20220421T080000
DTEND;TZID=UTC:20220422T170000
DTSTAMP:20260425T014515
CREATED:20211216T114141Z
LAST-MODIFIED:20211216T114141Z
UID:3179-1650528000-1650646800@kbpr.agency
SUMMARY:Trustee Senate 2022
DESCRIPTION:***2022 Event details coming soon***
URL:https://kbpr.agency/event/trustee-senate-2022/
LOCATION:London
END:VEVENT
BEGIN:VEVENT
DTSTART;VALUE=DATE:20220428
DTEND;VALUE=DATE:20220429
DTSTAMP:20260425T014515
CREATED:20211216T114533Z
LAST-MODIFIED:20211216T114533Z
UID:3182-1651104000-1651190399@kbpr.agency
SUMMARY:Pensions Age Spring Conference 2022
DESCRIPTION:The Pensions Age Spring Conference is a firm favourite in the UK pensions sector and offers pension funds and those working in the pensions sector the opportunity to learn and network alongside their peers at one of the most unprecedented times in UK pensions history.
URL:https://kbpr.agency/event/pensions-age-spring-conference-2022/
LOCATION:London Hilton Tower Bridge\, London
END:VEVENT
BEGIN:VEVENT
DTSTART;TZID=UTC:20220428T090000
DTEND;TZID=UTC:20220428T170000
DTSTAMP:20260425T014515
CREATED:20220302T123842Z
LAST-MODIFIED:20220302T123842Z
UID:3287-1651136400-1651165200@kbpr.agency
SUMMARY:DB & DC pensions management summit
DESCRIPTION:Pension schemes in the UK are entering a new era with both opportunities and challenges ahead. As they move from Covid-19 response to recovery\, DB and DC schemes are operating in a landscape of expanding regulation\, new expectations around climate and ESG action\, changing demographics and innovative technologies. The macro environment for investment is also evolving with new avenues for allocations and yield opening up\, against a background of ongoing economic uncertainty.
URL:https://kbpr.agency/event/db-dc-pensions-management-summit/
LOCATION:Online
END:VEVENT
END:VCALENDAR